BEGIN:VCALENDAR
VERSION:2.0
PRODID:-//eventon.com NONSGML v1.0//EN
CALSCALE:GREGORIAN
METHOD:PUBLISH
BEGIN:VEVENT
UID:69e946e27039a
DTSTAMP:20260422T220834Z
DTSTART:20231208T183000Z
DTEND:20231208T203000Z
LOCATION:Café Ô Berry 11 rue de la Gaucherie - &quot;La Manufacture&quot;
SUMMARY:CONCERT - THEE BRINKS
DESCRIPTION:\nhttps://cafeoberry.fr/events/concert-thee-brinks/
URL:https://cafeoberry.fr/events/concert-thee-brinks/
END:VEVENT
END:VCALENDAR