BEGIN:VCALENDAR
VERSION:2.0
PRODID:-//eventon.com NONSGML v1.0//EN
CALSCALE:GREGORIAN
METHOD:PUBLISH
BEGIN:VEVENT
UID:69e726e2ac6b4
DTSTAMP:20260421T072730Z
DTSTART:20231210T140000Z
DTEND:20231210T150000Z
LOCATION:Café Ô Berry 11 rue de la Gaucherie - &quot;La Manufacture&quot;
SUMMARY:ATELIER CREATIF
DESCRIPTION:\nhttps://cafeoberry.fr/events/atelier-creatif-2/
URL:https://cafeoberry.fr/events/atelier-creatif-2/
END:VEVENT
END:VCALENDAR