BEGIN:VCALENDAR
VERSION:2.0
PRODID:-//eventon.com NONSGML v1.0//EN
CALSCALE:GREGORIAN
METHOD:PUBLISH
BEGIN:VEVENT
UID:69e74b2190dee
DTSTAMP:20260421T100209Z
DTSTART:20231216T183000Z
DTEND:20231216T200000Z
LOCATION:CafÃ© Ã” Berry 11 rue de la Gaucherie - &quot;La Manufacture&quot;
SUMMARY:MALVAÂ - LesÂ chantsÂ nocturnesÂ 
DESCRIPTION:â€‚Incantatrice accompagnÃ©e dâ€™un frÃªle ukulÃ©lÃ©\,  dâ€™un 
 fidÃ¨le accordÃ©on et dâ€™un looper merveilleux\,  MALVA&nbsp;propose des c
 hansons aÃ©riennes\,  puissantes\,  douces et imagÃ©es.&nbsp; â€‚â€‚â€‚â€‚â
 €‚â€‚Elle crÃ©e des atmosphÃ¨res oniriques et entÃªtantes\,  avec la dÃ©lic
 atesse des gouttes de pluie\,  pour mieux arroser les&nbsp;cÅ“ursâ€¦&nbsp;&
 #8220; De nouvelles chansons en franÃ§ais\,  ce sont ses mots\,  Ã©crits en
  marchant[..]\nhttps://cafeoberry.fr/events/malva-les-chants-nocturnes/
URL:https://cafeoberry.fr/events/malva-les-chants-nocturnes/
END:VEVENT
END:VCALENDAR