BEGIN:VCALENDAR
VERSION:2.0
PRODID:-//eventon.com NONSGML v1.0//EN
CALSCALE:GREGORIAN
METHOD:PUBLISH
BEGIN:VEVENT
UID:69e738acd74c9
DTSTAMP:20260421T084324Z
DTSTART:20240119T183000Z
DTEND:20240119T200000Z
LOCATION:Café Ô Berry 11 rue de la Gaucherie - &quot;La Manufacture&quot;
SUMMARY:SIMON BOITARD
DESCRIPTION:Chansons\,  piano&#8230;.\nhttps://cafeoberry.fr/events/simon-b
 oitard/
URL:https://cafeoberry.fr/events/simon-boitard/
END:VEVENT
END:VCALENDAR