BEGIN:VCALENDAR
VERSION:2.0
PRODID:-//eventon.com NONSGML v1.0//EN
CALSCALE:GREGORIAN
METHOD:PUBLISH
BEGIN:VEVENT
UID:69e5e4bcf2241
DTSTAMP:20260420T083300Z
DTSTART:20240322T150000Z
DTEND:20240322T170000Z
LOCATION:Café Ô Berry 11 rue de la Gaucherie - &quot;La Manufacture&quot;
SUMMARY:ATELIER - ECRITURE DE CHANSONS
DESCRIPTION:Venez découvrir comment Maxence Melot\,  Auteur\,  Compositeur
 \,  Interprète écrit ses chansons. Et essayez vous à l&#8217;écriture\n
 https://cafeoberry.fr/events/atelier-ecriture-de-chansons/
URL:https://cafeoberry.fr/events/atelier-ecriture-de-chansons/
END:VEVENT
END:VCALENDAR