BEGIN:VCALENDAR
VERSION:2.0
PRODID:-//eventon.com NONSGML v1.0//EN
CALSCALE:GREGORIAN
METHOD:PUBLISH
BEGIN:VEVENT
UID:69e5e4887bd54
DTSTAMP:20260420T083208Z
DTSTART:20240427T173000Z
DTEND:20240427T190000Z
LOCATION:Café Ô Berry 11 rue de la Gaucherie - &quot;La Manufacture&quot;
SUMMARY:Narcose
DESCRIPTION:Un mélange de Rock et Hard Rock Découvrez leur page..\nhttps:
 //cafeoberry.fr/events/narcose/
URL:https://cafeoberry.fr/events/narcose/
END:VEVENT
END:VCALENDAR