BEGIN:VCALENDAR
VERSION:2.0
PRODID:-//eventon.com NONSGML v1.0//EN
CALSCALE:GREGORIAN
METHOD:PUBLISH
BEGIN:VEVENT
UID:69e5e68b280b6
DTSTAMP:20260420T084043Z
DTSTART:20240517T173000Z
DTEND:20240517T203000Z
LOCATION:
SUMMARY:Y'M SAOUL
DESCRIPTION:Rock and Soul\nhttps://cafeoberry.fr/events/ym-soul/
URL:https://cafeoberry.fr/events/ym-soul/
END:VEVENT
END:VCALENDAR