BEGIN:VCALENDAR
VERSION:2.0
PRODID:-//eventon.com NONSGML v1.0//EN
CALSCALE:GREGORIAN
METHOD:PUBLISH
BEGIN:VEVENT
UID:69e70c5986820
DTSTAMP:20260421T053417Z
DTSTART:20240518T173000Z
DTEND:20240518T203000Z
LOCATION:
SUMMARY:KARAOKÉ
DESCRIPTION:\nhttps://cafeoberry.fr/events/karaoke-4/
URL:https://cafeoberry.fr/events/karaoke-4/
END:VEVENT
END:VCALENDAR