BEGIN:VCALENDAR
VERSION:2.0
PRODID:-//eventon.com NONSGML v1.0//EN
CALSCALE:GREGORIAN
METHOD:PUBLISH
BEGIN:VEVENT
UID:69e7996b175d0
DTSTAMP:20260421T153611Z
DTSTART:20240614T173000Z
DTEND:20240614T193000Z
LOCATION:Café Ô Berry 11 rue de la Gaucherie - &quot;La Manufacture&quot;
SUMMARY:CONCERT - GREAT HUNGER
DESCRIPTION:DU ROCK QUI S&#8217;COUE .. https://www.facebook.com/great.hung
 er.family\nhttps://cafeoberry.fr/events/concert-ir3ez/
URL:https://cafeoberry.fr/events/concert-ir3ez/
END:VEVENT
END:VCALENDAR