BEGIN:VCALENDAR
VERSION:2.0
PRODID:-//eventon.com NONSGML v1.0//EN
CALSCALE:GREGORIAN
METHOD:PUBLISH
BEGIN:VEVENT
UID:69e61b01ccd11
DTSTAMP:20260420T122433Z
DTSTART:20240715T120000Z
DTEND:20240715T160000Z
LOCATION:
SUMMARY:BELOTE / SCRABBLE
DESCRIPTION:3 € -1 boisson chaude et un goûter\nhttps://cafeoberry.fr/ev
 ents/belote-scrabble-5/
URL:https://cafeoberry.fr/events/belote-scrabble-5/
END:VEVENT
END:VCALENDAR