BEGIN:VCALENDAR
VERSION:2.0
PRODID:-//eventon.com NONSGML v1.0//EN
CALSCALE:GREGORIAN
METHOD:PUBLISH
BEGIN:VEVENT
UID:69e7368bf0a80
DTSTAMP:20260421T083419Z
DTSTART:20240723T150000Z
DTEND:20240723T180000Z
LOCATION:
SUMMARY:ATELIER POTERIE
DESCRIPTION:Enfants ou adultes ( Attention places limitées) Participation 
 libre\nhttps://cafeoberry.fr/events/atelier-poterie/
URL:https://cafeoberry.fr/events/atelier-poterie/
END:VEVENT
END:VCALENDAR