BEGIN:VCALENDAR
VERSION:2.0
PRODID:-//eventon.com NONSGML v1.0//EN
CALSCALE:GREGORIAN
METHOD:PUBLISH
BEGIN:VEVENT
UID:69e737587520e
DTSTAMP:20260421T083744Z
DTSTART:20240804T170000Z
DTEND:20240804T190000Z
LOCATION:
SUMMARY:CONCERT - HECTOR OU RIEN
DESCRIPTION:Un univers Ã  part Ã  dÃ©couvrir Hector ou Rien C&#8217;Ã©tait 
 en Mars Ã  l&#8217;Alhambra pendant le festival Voix de FÃªte. Depuis\,  il
 s ont rajoutÃ© au show bon nombre d&#8217;effets pyrotechniques\,  combats 
 d&#8217;ours et autres chorÃ©graphies sous-marines\,  toujours en subtilitÃ
 ©.\nhttps://cafeoberry.fr/events/concert-hector-ou-rien/
URL:https://cafeoberry.fr/events/concert-hector-ou-rien/
END:VEVENT
END:VCALENDAR