BEGIN:VCALENDAR
VERSION:2.0
PRODID:-//eventon.com NONSGML v1.0//EN
CALSCALE:GREGORIAN
METHOD:PUBLISH
BEGIN:VEVENT
UID:69e76d1495c7c
DTSTAMP:20260421T122700Z
DTSTART:20240919T085000Z
DTEND:20240919T085000Z
LOCATION:
SUMMARY:ATELIER PEINTURE VÉGÉTALE
DESCRIPTION:Découverte de la détrempe Création de peinture à l’œuf a
 ux pigments naturels et création de mini toiles Avec Océane Baudewyn\nhtt
 ps://cafeoberry.fr/events/atelier-peinture-vegetale/
URL:https://cafeoberry.fr/events/atelier-peinture-vegetale/
END:VEVENT
END:VCALENDAR