BEGIN:VCALENDAR
VERSION:2.0
PRODID:-//eventon.com NONSGML v1.0//EN
CALSCALE:GREGORIAN
METHOD:PUBLISH
BEGIN:VEVENT
UID:69e5e66f5d4be
DTSTAMP:20260420T084015Z
DTSTART:20241214T200000Z
DTEND:20241214T220000Z
LOCATION:
SUMMARY:LES EXCITÉS
DESCRIPTION:C&#8217;est le grand retour du cocktail BBop / Excités dans vo
 tre café associatif préféré !Une bonne dose de Rock&#8217;n&#8217;roll 
 suivi du mythique Twist&#8217;n&#8217;Punk de Brigitte Bop (dans quel ordre
 \,  on ne sait pas\,  si quelqu&#8217;un peut ramener une pièce pour un pi
 le ou face)Une belle fiesta en perspective !\nhttps://cafeoberry.fr/events/
 les-excites/
URL:https://cafeoberry.fr/events/les-excites/
END:VEVENT
END:VCALENDAR