BEGIN:VCALENDAR
VERSION:2.0
PRODID:-//eventon.com NONSGML v1.0//EN
CALSCALE:GREGORIAN
METHOD:PUBLISH
BEGIN:VEVENT
UID:69e73939cfd69
DTSTAMP:20260421T084545Z
DTSTART:20250117T200000Z
DTEND:20250117T220000Z
LOCATION:
SUMMARY:CHAMADE
DESCRIPTION:Jazz-swing-chansons de films\nhttps://cafeoberry.fr/events/cham
 ade/
URL:https://cafeoberry.fr/events/chamade/
END:VEVENT
END:VCALENDAR