BEGIN:VCALENDAR
VERSION:2.0
PRODID:-//eventon.com NONSGML v1.0//EN
CALSCALE:GREGORIAN
METHOD:PUBLISH
BEGIN:VEVENT
UID:69e73868796a1
DTSTAMP:20260421T084216Z
DTSTART:20250303T140000Z
DTEND:20250303T180000Z
LOCATION:
SUMMARY:Belote
DESCRIPTION:Après-midi ludique\,  belote ou autres jeux avec Samie et Mart
 ine\nhttps://cafeoberry.fr/events/belote-6/
URL:https://cafeoberry.fr/events/belote-6/
END:VEVENT
END:VCALENDAR