BEGIN:VCALENDAR
VERSION:2.0
PRODID:-//eventon.com NONSGML v1.0//EN
CALSCALE:GREGORIAN
METHOD:PUBLISH
BEGIN:VEVENT
UID:69e738389a1bb
DTSTAMP:20260421T084128Z
DTSTART:20250402T143000Z
DTEND:20250402T170000Z
LOCATION:Café Ô Berry 11 rue de la Gaucherie - &quot;La Manufacture&quot;
SUMMARY:ATELIER CADRE PHOTO
DESCRIPTION:Venez créer vos propres cadres photos avec Elodie et Nathalie 
 Entrée Libre\nhttps://cafeoberry.fr/events/atelier-cadre-photo/
URL:https://cafeoberry.fr/events/atelier-cadre-photo/
END:VEVENT
END:VCALENDAR