BEGIN:VCALENDAR
VERSION:2.0
PRODID:-//eventon.com NONSGML v1.0//EN
CALSCALE:GREGORIAN
METHOD:PUBLISH
BEGIN:VEVENT
UID:69e737584e325
DTSTAMP:20260421T083744Z
DTSTART:20250423T143000Z
DTEND:20250423T170000Z
LOCATION:Café Ô Berry 11 rue de la Gaucherie - &quot;La Manufacture&quot;
SUMMARY:ATELIER GIROUETTES DE JARDIN
DESCRIPTION:Recyclage des canettes. Christine en vous propose dans le cadre
  de &#8220;la Journée de la terre&#8221; en partenariat avec le Secours Po
 pulaire de fabriquer des girouettes pour le jardin. Attention atelier limit
 é et sur inscription : au 06 01 58 08 98. à partir de 8 ans accompagné d
 &#8217;un adulte\nhttps://cafeoberry.fr/events/atelier-girouettes-de-jardin
 /
URL:https://cafeoberry.fr/events/atelier-girouettes-de-jardin/
END:VEVENT
END:VCALENDAR