BEGIN:VCALENDAR
VERSION:2.0
PRODID:-//eventon.com NONSGML v1.0//EN
CALSCALE:GREGORIAN
METHOD:PUBLISH
BEGIN:VEVENT
UID:69e735db42efe
DTSTAMP:20260421T083123Z
DTSTART:20250920T200000Z
DTEND:20250920T220000Z
LOCATION:Café Ô Berry 11 rue de la Gaucherie - &quot;La Manufacture&quot;
SUMMARY:LES GARS DE PASSAGE
DESCRIPTION:Vous les avez ratés en mars ? Pas de panique…Ils reviennent\
 ,  encore plus en forme\,  plus fous\,  plus festifs !Un concert entre chan
 son à texte\,  swing\,  énergie débordante et refrains à reprendre en c
 hœur. Ambiance garantie\,  comme à chaque passage !Bar\,  planches\,  rir
 es et belles rencontres… le combo gagnant du[..]\nhttps://cafeoberry.fr/e
 vents/les-gars-de-passage-2/
URL:https://cafeoberry.fr/events/les-gars-de-passage-2/
END:VEVENT
END:VCALENDAR