BEGIN:VCALENDAR
VERSION:2.0
PRODID:-//eventon.com NONSGML v1.0//EN
CALSCALE:GREGORIAN
METHOD:PUBLISH
BEGIN:VEVENT
UID:69e7368bf157d
DTSTAMP:20260421T083419Z
DTSTART:20251128T200000Z
DTEND:20251128T213000Z
LOCATION:CafÃ© Ã” Berry 11 rue de la Gaucherie - &quot;La Manufacture&quot;
SUMMARY:BAR-BARS - DÃ‰RAPADE
DESCRIPTION:DÃ©rapade\,  câ€™est le rock franÃ§ais dans toute sa sincÃ©ritÃ
 © : brut\,  nerveux et sans dÃ©tours.Le groupe envoie des textes qui claque
 nt\,  des riffs acÃ©rÃ©s et une Ã©nergie qui dÃ©borde de la scÃ¨ne.Leur mus
 ique parle vrai\,  leur prÃ©sence secoue\,  leur son rÃ©veille â€” impossib
 le de rester immobile. Avec un style puissant[..]\nhttps://cafeoberry.fr/ev
 ents/bar-bars-derapade/
URL:https://cafeoberry.fr/events/bar-bars-derapade/
END:VEVENT
END:VCALENDAR