BEGIN:VCALENDAR
VERSION:2.0
PRODID:-//eventon.com NONSGML v1.0//EN
CALSCALE:GREGORIAN
METHOD:PUBLISH
BEGIN:VEVENT
UID:69e738405779d
DTSTAMP:20260421T084136Z
DTSTART:20251214T170000Z
DTEND:20251214T190000Z
LOCATION:Café Ô Berry 11 rue de la Gaucherie - &quot;La Manufacture&quot;
SUMMARY:SALYAFA
DESCRIPTION:Salyafa est un groupe vocal de femmes cueillant ses chants au d
 elà des frontières\,  dans deslangues aux accents aux accents variés\,  
 notamment occitan\,  marocain\,  russe\,  séfarade\,  corse\,  tzigane\,  
 chilien\,  hébraïque\,  africain ou ukrainien avec comme terreau l’exig
 ence\,  la simplicité et la joie dechanter ensemble.Un voyage tout en nuan
 ces\,  riche en[..]\nhttps://cafeoberry.fr/events/salyafa/
URL:https://cafeoberry.fr/events/salyafa/
END:VEVENT
END:VCALENDAR