BEGIN:VCALENDAR
VERSION:2.0
PRODID:-//eventon.com NONSGML v1.0//EN
CALSCALE:GREGORIAN
METHOD:PUBLISH
BEGIN:VEVENT
UID:69e5e4666d9e2
DTSTAMP:20260420T083134Z
DTSTART:20260217T140000Z
DTEND:20260217T170000Z
LOCATION:Café Ô Berry 11 rue de la Gaucherie - &quot;La Manufacture&quot;
SUMMARY:ATELIER MARDI GRAS
DESCRIPTION:Création de masques\,  maquillage\,  arts créatifs\nhttps://c
 afeoberry.fr/events/atelier-mardi-gras/
URL:https://cafeoberry.fr/events/atelier-mardi-gras/
END:VEVENT
END:VCALENDAR