BEGIN:VCALENDAR
VERSION:2.0
PRODID:-//eventon.com NONSGML v1.0//EN
CALSCALE:GREGORIAN
METHOD:PUBLISH
BEGIN:VEVENT
UID:69e738a2c4b1b
DTSTAMP:20260421T084314Z
DTSTART:20260224T140000Z
DTEND:20260224T170000Z
LOCATION:
SUMMARY:JEUX DE SOCIÉTÉ
DESCRIPTION:Venez découvrir de nouveaux jeux\,  ou apporter les vôtres.. 
 après-midi ludique.\nhttps://cafeoberry.fr/events/jeux-de-societe-12/
URL:https://cafeoberry.fr/events/jeux-de-societe-12/
END:VEVENT
END:VCALENDAR