BEGIN:VCALENDAR
VERSION:2.0
PRODID:-//eventon.com NONSGML v1.0//EN
CALSCALE:GREGORIAN
METHOD:PUBLISH
BEGIN:VEVENT
UID:69e5e54eb9416
DTSTAMP:20260420T083526Z
DTSTART:20260301T100000Z
DTEND:20260301T180000Z
LOCATION:Café Ô Berry 11 rue de la Gaucherie - &quot;La Manufacture&quot;
SUMMARY:ASSEMBLÉE GÉNÉRALE
DESCRIPTION:Le Café Ô Berry vous invite à son Assemblée Générale\,  u
 n moment important de la vie de notre lieu… et surtout un moment de parta
 ge ! Ouverte à toutes et tous C’est l’occasion de faire le point sur l
 ’année écoulée\,  d’échanger sur les projets à venir\,  de poser v
 os questions\, [..]\nhttps://cafeoberry.fr/events/assemblee-generale/
URL:https://cafeoberry.fr/events/assemblee-generale/
END:VEVENT
END:VCALENDAR