BEGIN:VCALENDAR
VERSION:2.0
PRODID:-//eventon.com NONSGML v1.0//EN
CALSCALE:GREGORIAN
METHOD:PUBLISH
BEGIN:VEVENT
UID:69e738782ac82
DTSTAMP:20260421T084232Z
DTSTART:20260314T200000Z
DTEND:20260314T223000Z
LOCATION:Café Ô Berry 11 rue de la Gaucherie - &quot;La Manufacture&quot;
SUMMARY:MANU LANVIN
DESCRIPTION:Le concert surprise… ne l’est plus ! On arrête le teasing.
  ⚠️ Concert uniquement sur réservation (en Entrée libre) Pas de rése
 rvation = pas d’entrée. BILLETTERIE Jauge très limitée.Les places vont
  partir vite. Très vite L’artiste incroyable que nous vous annoncions es
 t Manu Lanvin. Oui. Lui. Blues rock brûlant.Présence scénique[..]\nhttps
 ://cafeoberry.fr/events/manu-lanvin-au-cafe-o-berry/
URL:https://cafeoberry.fr/events/manu-lanvin-au-cafe-o-berry/
END:VEVENT
END:VCALENDAR