BEGIN:VCALENDAR
VERSION:2.0
PRODID:-//eventon.com NONSGML v1.0//EN
CALSCALE:GREGORIAN
METHOD:PUBLISH
BEGIN:VEVENT
UID:69ed773eb185d
DTSTAMP:20260426T022358Z
DTSTART:20260403T200000Z
DTEND:20260403T220000Z
LOCATION:Café Ô Berry 11 rue de la Gaucherie - &quot;La Manufacture&quot;
SUMMARY:STEN & CHARDON
DESCRIPTION:LES DOSSIERS SECRETS DE LA SACEM Les artistes de variété sont
  notre patrimoine culturel.&nbsp;Et&nbsp;pourtant les connaissez-vous si bi
 en ? Dick Rivers comprenait-il l’anglais ? Brassens est-il vraiment mort&
 nbsp;et&nbsp;Ferrat repassé ? Carlos était-il chanteur d’Oasis ?&nbsp;E
 t&nbsp;Goldman&#8230; sax ? Avec la rigueur scientifique qui les caractéri
 se&nbsp;et&nbsp;à travers des démonstrations théoriques ou musicales\, [
 ..]\nhttps://cafeoberry.fr/events/sten-chardon/
URL:https://cafeoberry.fr/events/sten-chardon/
END:VEVENT
END:VCALENDAR