BEGIN:VCALENDAR
VERSION:2.0
PRODID:-//eventon.com NONSGML v1.0//EN
CALSCALE:GREGORIAN
METHOD:PUBLISH
BEGIN:VEVENT
UID:69e54bc804610
DTSTAMP:20260419T214024Z
DTSTART:20260508T200000Z
DTEND:20260508T220000Z
LOCATION:Café Ô Berry 11 rue de la Gaucherie - &quot;La Manufacture&quot;
SUMMARY:LAF'AIRE
DESCRIPTION:Chansons originales en Français. Fred à la basse\,  Ludo à l
 a guitare\,  Zabou aux percussions et aux choeurs et Armelle au chant pour 
 un moment de ballades en douceur.\nhttps://cafeoberry.fr/events/lafaire/
URL:https://cafeoberry.fr/events/lafaire/
END:VEVENT
END:VCALENDAR