BEGIN:VCALENDAR
VERSION:2.0
PRODID:-//eventon.com NONSGML v1.0//EN
CALSCALE:GREGORIAN
METHOD:PUBLISH
BEGIN:VEVENT
UID:69e77111b45df
DTSTAMP:20260421T124401Z
DTSTART:20260428T193000Z
DTEND:20260428T213000Z
LOCATION:Café Ô Berry 11 rue de la Gaucherie - &quot;La Manufacture&quot;
SUMMARY:STAND UP
DESCRIPTION:Klint prod vous propose une soirée Stand Up. En invités ce ma
 rdi soir: Klint\,  Robin &amp; Ambre Artistes parisiens de passage à Vierz
 on pour vous satisfaire. Soirée humour garantie.\nhttps://cafeoberry.fr/ev
 ents/stand-up/
URL:https://cafeoberry.fr/events/stand-up/
END:VEVENT
END:VCALENDAR