BEGIN:VCALENDAR
VERSION:2.0
PRODID:-//eventon.com NONSGML v1.0//EN
CALSCALE:GREGORIAN
METHOD:PUBLISH
BEGIN:VEVENT
UID:69e5e4388434a
DTSTAMP:20260420T083048Z
DTSTART:20231021T173000Z
DTEND:20231021T193000Z
LOCATION:Café Ô Berry 11 rue de la Gaucherie - &quot;La Manufacture&quot;
SUMMARY:CONCERT - RACE BARROW
DESCRIPTION:POP/ROCK\nhttps://cafeoberry.fr/events/concert-race-barrow/
URL:https://cafeoberry.fr/events/concert-race-barrow/
END:VEVENT
END:VCALENDAR